BEGIN:VCALENDAR
VERSION:2.0
PRODID:-//COPS Monitoring - ECPv6.15.20//NONSGML v1.0//EN
CALSCALE:GREGORIAN
METHOD:PUBLISH
X-WR-CALNAME:COPS Monitoring
X-ORIGINAL-URL:https://copsmonitoring.com
X-WR-CALDESC:Events for COPS Monitoring
REFRESH-INTERVAL;VALUE=DURATION:PT1H
X-Robots-Tag:noindex
X-PUBLISHED-TTL:PT1H
BEGIN:VTIMEZONE
TZID:America/Los_Angeles
BEGIN:DAYLIGHT
TZOFFSETFROM:-0800
TZOFFSETTO:-0700
TZNAME:PDT
DTSTART:20190310T100000
END:DAYLIGHT
BEGIN:STANDARD
TZOFFSETFROM:-0700
TZOFFSETTO:-0800
TZNAME:PST
DTSTART:20191103T090000
END:STANDARD
BEGIN:DAYLIGHT
TZOFFSETFROM:-0800
TZOFFSETTO:-0700
TZNAME:PDT
DTSTART:20200308T100000
END:DAYLIGHT
BEGIN:STANDARD
TZOFFSETFROM:-0700
TZOFFSETTO:-0800
TZNAME:PST
DTSTART:20201101T090000
END:STANDARD
BEGIN:DAYLIGHT
TZOFFSETFROM:-0800
TZOFFSETTO:-0700
TZNAME:PDT
DTSTART:20210314T100000
END:DAYLIGHT
BEGIN:STANDARD
TZOFFSETFROM:-0700
TZOFFSETTO:-0800
TZNAME:PST
DTSTART:20211107T090000
END:STANDARD
END:VTIMEZONE
BEGIN:VEVENT
DTSTART;TZID=America/Los_Angeles:20200318T193000
DTEND;TZID=America/Los_Angeles:20200318T223000
DTSTAMP:20260421T202709
CREATED:20200102T223816Z
LAST-MODIFIED:20230720T124938Z
UID:8289-1584559800-1584570600@copsmonitoring.com
SUMMARY:Best Party for Alarm Dealers at ISC West
DESCRIPTION:IMPORTANT MESSAGE REGARDING ISC WEST AND OUR DEALER PARTY\nOn Friday March 6\, after consulting with public health officials and extensive consultation with partners in the global security community\, the event organizers made the decision to postpone ISC West. In their statement\, they advise ISC West will now occur in July and that dates to be announced soon.You can view the postponement announcement here.Visit the ISC West Website for the most current information.\n\nThe COPS Dealer Party is the only place in Vegas where you can:\nEat\, drink\, dance to live music\, have a chance to win thousands in prizes\, and ride a bull…\n…ALL FOR FREE!\n\nWEDNESDAY\, March 18 | 7:30PM – 10:30PM\nAdmission is FREE for alarm-installation companies with monitored accounts. Don’t miss the fun! Reserve your spot by completing the form below.\n\nREGISTER FOR FREE ADMISSION\n\n\nSpace is limited.\n  \nQuestions? Call 800-367-2677 x 1256.\n \nUse this link to register for FREE Admission to the show floor ($150 Value)
URL:https://copsmonitoring.com/event/iscw20/
LOCATION:Gilley’s Las Vegas Inside Treasure Island\, 3300 S Las Vegas Blvd\, Las Vegas\, NV\, 89109\, United States
ATTACH;FMTTYPE=image/jpeg:https://copsmonitoring.com/wp-content/uploads/2020/01/iscw20_event_hder-postponed.jpg
END:VEVENT
END:VCALENDAR