BEGIN:VCALENDAR
VERSION:2.0
PRODID:-//COPS Monitoring - ECPv6.15.20//NONSGML v1.0//EN
CALSCALE:GREGORIAN
METHOD:PUBLISH
X-WR-CALNAME:COPS Monitoring
X-ORIGINAL-URL:https://copsmonitoring.com
X-WR-CALDESC:Events for COPS Monitoring
REFRESH-INTERVAL;VALUE=DURATION:PT1H
X-Robots-Tag:noindex
X-PUBLISHED-TTL:PT1H
BEGIN:VTIMEZONE
TZID:America/New_York
BEGIN:DAYLIGHT
TZOFFSETFROM:-0500
TZOFFSETTO:-0400
TZNAME:EDT
DTSTART:20220313T070000
END:DAYLIGHT
BEGIN:STANDARD
TZOFFSETFROM:-0400
TZOFFSETTO:-0500
TZNAME:EST
DTSTART:20221106T060000
END:STANDARD
BEGIN:DAYLIGHT
TZOFFSETFROM:-0500
TZOFFSETTO:-0400
TZNAME:EDT
DTSTART:20230312T070000
END:DAYLIGHT
BEGIN:STANDARD
TZOFFSETFROM:-0400
TZOFFSETTO:-0500
TZNAME:EST
DTSTART:20231105T060000
END:STANDARD
BEGIN:DAYLIGHT
TZOFFSETFROM:-0500
TZOFFSETTO:-0400
TZNAME:EDT
DTSTART:20240310T070000
END:DAYLIGHT
BEGIN:STANDARD
TZOFFSETFROM:-0400
TZOFFSETTO:-0500
TZNAME:EST
DTSTART:20241103T060000
END:STANDARD
END:VTIMEZONE
BEGIN:VTIMEZONE
TZID:America/Chicago
BEGIN:DAYLIGHT
TZOFFSETFROM:-0600
TZOFFSETTO:-0500
TZNAME:CDT
DTSTART:20220313T080000
END:DAYLIGHT
BEGIN:STANDARD
TZOFFSETFROM:-0500
TZOFFSETTO:-0600
TZNAME:CST
DTSTART:20221106T070000
END:STANDARD
BEGIN:DAYLIGHT
TZOFFSETFROM:-0600
TZOFFSETTO:-0500
TZNAME:CDT
DTSTART:20230312T080000
END:DAYLIGHT
BEGIN:STANDARD
TZOFFSETFROM:-0500
TZOFFSETTO:-0600
TZNAME:CST
DTSTART:20231105T070000
END:STANDARD
BEGIN:DAYLIGHT
TZOFFSETFROM:-0600
TZOFFSETTO:-0500
TZNAME:CDT
DTSTART:20240310T080000
END:DAYLIGHT
BEGIN:STANDARD
TZOFFSETFROM:-0500
TZOFFSETTO:-0600
TZNAME:CST
DTSTART:20241103T070000
END:STANDARD
END:VTIMEZONE
BEGIN:VEVENT
DTSTART;VALUE=DATE:20230712
DTEND;VALUE=DATE:20230713
DTSTAMP:20260425T100607
CREATED:20230606T163436Z
LAST-MODIFIED:20230606T163436Z
UID:50844-1689120000-1689206399@copsmonitoring.com
SUMMARY:WNYESA Summer Bash @ Buffalo RiverWorks | Buffalo\, NY
DESCRIPTION:Join WNYESA and COPS Account Executive\, Michael Ritt\, for a fun evening on the Buffalo Waterfront with industry vendors\, a buffet dinner\, prize raffles\, and more\, during the Western New York Electronic Security Association ‘Summer Bash” in Buffalo! \nFor more information\, visit the official WNYESA website.
URL:https://copsmonitoring.com/event/wnyesa-071223/
LOCATION:Buffalo Riverworks\, 359 Ganson St\, Buffalo\, NY\, 14203\, United States
CATEGORIES:Industry Event
ATTACH;FMTTYPE=image/png:https://copsmonitoring.com/wp-content/uploads/2022/07/wnyesa_1227x248-Event-Page-Header.png
END:VEVENT
BEGIN:VEVENT
DTSTART;TZID=America/Chicago:20230720T090000
DTEND;TZID=America/Chicago:20230720T170000
DTSTAMP:20260425T100607
CREATED:20230710T184755Z
LAST-MODIFIED:20230710T184755Z
UID:51187-1689843600-1689872400@copsmonitoring.com
SUMMARY:FREE Grow Your Business Workshop @ Springhill Suites | 7/20
DESCRIPTION:REGISTER NOW\n\nGet the Competitive Advantage – Sign Up Now!\n \n\nJoin Ron Bowden (UCC)\, Rick Campbell (2Gig)\, Dan Cranford (PAR Products)\, and special guest Lone Star Systems Supply for a FREE Grow Your Business Seminar that will guide you on how to RESHAPE and RESSESSION PROOF your business. \nYou will learn real world ways to – Increase Your Sales\, Lessen Your Attrition\,  Recruit New Talent\,  Collect Your Receivables and so much MORE\, without spending $$$. \nUCC will also be showcasing AlarmWatch\, our new brand of video monitoring services. \nWith interactive video monitoring services you can increase your RMR\, reduce false alarms\, and prioritize emergency response. \nAll attendees will receive a free Breakfast and Lunch and 8 hours of CEU’s. \n\n\nSpringhill Suites\n20350 Northwest Fwy\nHouston\, TX 77065\n9am – 5pm\n\n\nEach attendee will receive five (8) CEU hours required by Texas Private Security Board. The workshop is hosted by United Central Control. \n\nTexas Private Security Board Continuing Education Training School #Y-00152
URL:https://copsmonitoring.com/event/gyb-072023/
LOCATION:Springhill Suites by Marriott (Houston)\, 20350 Northwest Freeway\, Houston\, TX\, 77065\, United States
ATTACH;FMTTYPE=image/jpeg:https://copsmonitoring.com/wp-content/uploads/2019/04/gyb_EVENTS_header.jpg
END:VEVENT
END:VCALENDAR