BEGIN:VCALENDAR
VERSION:2.0
PRODID:-//COPS Monitoring - ECPv6.15.20//NONSGML v1.0//EN
CALSCALE:GREGORIAN
METHOD:PUBLISH
X-ORIGINAL-URL:https://copsmonitoring.com
X-WR-CALDESC:Events for COPS Monitoring
REFRESH-INTERVAL;VALUE=DURATION:PT1H
X-Robots-Tag:noindex
X-PUBLISHED-TTL:PT1H
BEGIN:VTIMEZONE
TZID:America/New_York
BEGIN:DAYLIGHT
TZOFFSETFROM:-0500
TZOFFSETTO:-0400
TZNAME:EDT
DTSTART:20190310T070000
END:DAYLIGHT
BEGIN:STANDARD
TZOFFSETFROM:-0400
TZOFFSETTO:-0500
TZNAME:EST
DTSTART:20191103T060000
END:STANDARD
BEGIN:DAYLIGHT
TZOFFSETFROM:-0500
TZOFFSETTO:-0400
TZNAME:EDT
DTSTART:20200308T070000
END:DAYLIGHT
BEGIN:STANDARD
TZOFFSETFROM:-0400
TZOFFSETTO:-0500
TZNAME:EST
DTSTART:20201101T060000
END:STANDARD
BEGIN:DAYLIGHT
TZOFFSETFROM:-0500
TZOFFSETTO:-0400
TZNAME:EDT
DTSTART:20210314T070000
END:DAYLIGHT
BEGIN:STANDARD
TZOFFSETFROM:-0400
TZOFFSETTO:-0500
TZNAME:EST
DTSTART:20211107T060000
END:STANDARD
END:VTIMEZONE
BEGIN:VEVENT
DTSTART;TZID=America/New_York:20200708T140000
DTEND;TZID=America/New_York:20200708T150000
DTSTAMP:20260424T172851
CREATED:20200616T222412Z
LAST-MODIFIED:20200616T223051Z
UID:9820-1594216800-1594220400@copsmonitoring.com
SUMMARY:Preparing for the 3G Sunset with Alula
DESCRIPTION:  \n\n\n\nInto the Sunset with Alula\n \nLearn how you can leverage Alula’s Universal Communicators\, Low-Cost/High-Value Touchscreens\, and competitive rebate program to minimize upgrade costs and maximize revenue! You’ll also be introduced to the NEW Alula Pro program that offers co-op marketing credits!\n\nREGISTER\n\n\n\n\n\n\n\n\n\n 
URL:https://copsmonitoring.com/event/preparing-for-the-3g-sunset-with-alula/
CATEGORIES:Webinar
ATTACH;FMTTYPE=image/jpeg:https://copsmonitoring.com/wp-content/uploads/2020/06/alula-webinar-07082020.jpg
END:VEVENT
BEGIN:VEVENT
DTSTART;TZID=America/New_York:20200701T140000
DTEND;TZID=America/New_York:20200701T150000
DTSTAMP:20260424T172851
CREATED:20200616T222449Z
LAST-MODIFIED:20200617T144655Z
UID:9841-1593612000-1593615600@copsmonitoring.com
SUMMARY:Preparing for the 3G Sunset with Alarm.com
DESCRIPTION:  \n\n\n\nInto the Sunset with Alarm.com\n \n \nWe’ll explore Alarm.com’s central station integrations and competitive LTE Upgrade program.\nPlus\, learn how you can track your upgrade progress and maximize rebates!\n\nREGISTER\n\n\n\n\n\n\n\n\n\n 
URL:https://copsmonitoring.com/event/preparing-for-the-3g-sunset-with-alarm-com/
CATEGORIES:Webinar
ATTACH;FMTTYPE=image/jpeg:https://copsmonitoring.com/wp-content/uploads/2020/06/alarmdotcom-webinar-07012020.jpg
END:VEVENT
BEGIN:VEVENT
DTSTART;TZID=America/New_York:20200624T140000
DTEND;TZID=America/New_York:20200624T150000
DTSTAMP:20260424T172851
CREATED:20200616T222330Z
LAST-MODIFIED:20200616T223122Z
UID:9831-1593007200-1593010800@copsmonitoring.com
SUMMARY:Preparing for the 3G Sunset with Qolsys
DESCRIPTION:  \n\n\n\nInto the Sunset with Qolsys\n \nLearn how the 3G sunset is an opportunity to re-engage your customer base with the latest technology from Qolsys and Alarm.com and how using the IQ2 Panel improves the entire customer experience!\n\nREGISTER\n\n\n\n\n\n\n\n\n\n 
URL:https://copsmonitoring.com/event/preparing-for-the-3g-sunset-with-qolsys/
CATEGORIES:Webinar
ATTACH;FMTTYPE=image/jpeg:https://copsmonitoring.com/wp-content/uploads/2020/06/qolsys-webinar-06242020.jpg
END:VEVENT
BEGIN:VEVENT
DTSTART;TZID=America/New_York:20200617T140000
DTEND;TZID=America/New_York:20200617T150000
DTSTAMP:20260424T172851
CREATED:20200604T155336Z
LAST-MODIFIED:20200611T142625Z
UID:9719-1592402400-1592406000@copsmonitoring.com
SUMMARY:Preparing for the 3G Sunset with M2M
DESCRIPTION:  \n\n\n\nInto the Sunset\n\n\n\n \n\n\n\n\n\n\nJoin COPS Monitoring\, SS&Si\, and M2M for a webinar to learn how universal communicators from M2M Services can lower your conversion costs AND offer customers reliable LTE (5G-ready) alarm communication.\n\n\n\n\n\n \n\n\n\n\nREGISTER\n\n\n\n\n\n \n\n\n\n \n\n\n\n \n\n 
URL:https://copsmonitoring.com/event/m2m-webinar-06172020/
CATEGORIES:Webinar
ATTACH;FMTTYPE=image/jpeg:https://copsmonitoring.com/wp-content/uploads/2020/06/cops-m2m-webinar-banner.jpg
END:VEVENT
END:VCALENDAR