BEGIN:VCALENDAR
VERSION:2.0
PRODID:-//COPS Monitoring - ECPv6.15.20//NONSGML v1.0//EN
CALSCALE:GREGORIAN
METHOD:PUBLISH
X-WR-CALNAME:COPS Monitoring
X-ORIGINAL-URL:https://copsmonitoring.com
X-WR-CALDESC:Events for COPS Monitoring
REFRESH-INTERVAL;VALUE=DURATION:PT1H
X-Robots-Tag:noindex
X-PUBLISHED-TTL:PT1H
BEGIN:VTIMEZONE
TZID:America/New_York
BEGIN:DAYLIGHT
TZOFFSETFROM:-0500
TZOFFSETTO:-0400
TZNAME:EDT
DTSTART:20250309T070000
END:DAYLIGHT
BEGIN:STANDARD
TZOFFSETFROM:-0400
TZOFFSETTO:-0500
TZNAME:EST
DTSTART:20251102T060000
END:STANDARD
BEGIN:DAYLIGHT
TZOFFSETFROM:-0500
TZOFFSETTO:-0400
TZNAME:EDT
DTSTART:20260308T070000
END:DAYLIGHT
BEGIN:STANDARD
TZOFFSETFROM:-0400
TZOFFSETTO:-0500
TZNAME:EST
DTSTART:20261101T060000
END:STANDARD
BEGIN:DAYLIGHT
TZOFFSETFROM:-0500
TZOFFSETTO:-0400
TZNAME:EDT
DTSTART:20270314T070000
END:DAYLIGHT
BEGIN:STANDARD
TZOFFSETFROM:-0400
TZOFFSETTO:-0500
TZNAME:EST
DTSTART:20271107T060000
END:STANDARD
END:VTIMEZONE
BEGIN:VEVENT
DTSTART;TZID=America/New_York:20260304T120000
DTEND;TZID=America/New_York:20260304T130000
DTSTAMP:20260424T185630
CREATED:20260216T183753Z
LAST-MODIFIED:20260216T183753Z
UID:55985-1772625600-1772629200@copsmonitoring.com
SUMMARY:WEBINAR: Redefining Dealer Revenue with RelyOn
DESCRIPTION:Meet RelyOn: COPS’ New Personal Safety Solution Partner!\nCOPS is excited to announce a new partnership with RelyOn\, a next-generation personal safety platform that extends protection beyond the home or workplace. RelyOn connects users directly to live assistance in moments of uncertainty or danger\, seamlessly integrating with COPS monitoring. With RelyOn\, you can now offer your clients (individuals\, families\, and communities) 24/7 protection anywhere\, anytime\, and unlock new recurring revenue streams from your existing customer base. \nWhy Choose RelyOn? \n\nReal-time Alert Management\nReduce Costs with Automation\nZero installation\, zero equipment – go live in days\nProven platform with thousands of users worldwide\nCOPS-integrated and dealer-first model\n$22\,500–$126\,000 in potential annual recurring revenue\n\nJoin the webinar and discover the incredible potential that COPS Monitoring and RelyOn can unlock for your business! \nWednesday | March 4\, 2026\n12:00PM – 1:00PM (EST)\nCLICK HERE TO REGISTER FOR THIS WEBINAR!
URL:https://copsmonitoring.com/event/webinar-relyon-030426/
LOCATION:Webinar\, United States
CATEGORIES:Training,Webinar
ATTACH;FMTTYPE=image/png:https://copsmonitoring.com/wp-content/uploads/2026/02/relyon-event-hdr.png
ORGANIZER;CN="Bart Weiner":MAILTO:bweiner@copsmonitoring.com
END:VEVENT
END:VCALENDAR