BEGIN:VCALENDAR
VERSION:2.0
PRODID:-//COPS Monitoring - ECPv6.15.20//NONSGML v1.0//EN
CALSCALE:GREGORIAN
METHOD:PUBLISH
X-WR-CALNAME:COPS Monitoring
X-ORIGINAL-URL:https://copsmonitoring.com
X-WR-CALDESC:Events for COPS Monitoring
REFRESH-INTERVAL;VALUE=DURATION:PT1H
X-Robots-Tag:noindex
X-PUBLISHED-TTL:PT1H
BEGIN:VTIMEZONE
TZID:America/New_York
BEGIN:DAYLIGHT
TZOFFSETFROM:-0500
TZOFFSETTO:-0400
TZNAME:EDT
DTSTART:20240310T070000
END:DAYLIGHT
BEGIN:STANDARD
TZOFFSETFROM:-0400
TZOFFSETTO:-0500
TZNAME:EST
DTSTART:20241103T060000
END:STANDARD
BEGIN:DAYLIGHT
TZOFFSETFROM:-0500
TZOFFSETTO:-0400
TZNAME:EDT
DTSTART:20250309T070000
END:DAYLIGHT
BEGIN:STANDARD
TZOFFSETFROM:-0400
TZOFFSETTO:-0500
TZNAME:EST
DTSTART:20251102T060000
END:STANDARD
BEGIN:DAYLIGHT
TZOFFSETFROM:-0500
TZOFFSETTO:-0400
TZNAME:EDT
DTSTART:20260308T070000
END:DAYLIGHT
BEGIN:STANDARD
TZOFFSETFROM:-0400
TZOFFSETTO:-0500
TZNAME:EST
DTSTART:20261101T060000
END:STANDARD
BEGIN:DAYLIGHT
TZOFFSETFROM:-0500
TZOFFSETTO:-0400
TZNAME:EDT
DTSTART:20270314T070000
END:DAYLIGHT
BEGIN:STANDARD
TZOFFSETFROM:-0400
TZOFFSETTO:-0500
TZNAME:EST
DTSTART:20271107T060000
END:STANDARD
END:VTIMEZONE
BEGIN:VTIMEZONE
TZID:America/Denver
BEGIN:DAYLIGHT
TZOFFSETFROM:-0700
TZOFFSETTO:-0600
TZNAME:MDT
DTSTART:20240310T090000
END:DAYLIGHT
BEGIN:STANDARD
TZOFFSETFROM:-0600
TZOFFSETTO:-0700
TZNAME:MST
DTSTART:20241103T080000
END:STANDARD
BEGIN:DAYLIGHT
TZOFFSETFROM:-0700
TZOFFSETTO:-0600
TZNAME:MDT
DTSTART:20250309T090000
END:DAYLIGHT
BEGIN:STANDARD
TZOFFSETFROM:-0600
TZOFFSETTO:-0700
TZNAME:MST
DTSTART:20251102T080000
END:STANDARD
BEGIN:DAYLIGHT
TZOFFSETFROM:-0700
TZOFFSETTO:-0600
TZNAME:MDT
DTSTART:20260308T090000
END:DAYLIGHT
BEGIN:STANDARD
TZOFFSETFROM:-0600
TZOFFSETTO:-0700
TZNAME:MST
DTSTART:20261101T080000
END:STANDARD
END:VTIMEZONE
BEGIN:VTIMEZONE
TZID:America/Chicago
BEGIN:DAYLIGHT
TZOFFSETFROM:-0600
TZOFFSETTO:-0500
TZNAME:CDT
DTSTART:20240310T080000
END:DAYLIGHT
BEGIN:STANDARD
TZOFFSETFROM:-0500
TZOFFSETTO:-0600
TZNAME:CST
DTSTART:20241103T070000
END:STANDARD
BEGIN:DAYLIGHT
TZOFFSETFROM:-0600
TZOFFSETTO:-0500
TZNAME:CDT
DTSTART:20250309T080000
END:DAYLIGHT
BEGIN:STANDARD
TZOFFSETFROM:-0500
TZOFFSETTO:-0600
TZNAME:CST
DTSTART:20251102T070000
END:STANDARD
BEGIN:DAYLIGHT
TZOFFSETFROM:-0600
TZOFFSETTO:-0500
TZNAME:CDT
DTSTART:20260308T080000
END:DAYLIGHT
BEGIN:STANDARD
TZOFFSETFROM:-0500
TZOFFSETTO:-0600
TZNAME:CST
DTSTART:20261101T070000
END:STANDARD
END:VTIMEZONE
BEGIN:VEVENT
DTSTART;VALUE=DATE:20260420
DTEND;VALUE=DATE:20260421
DTSTAMP:20260422T230124
CREATED:20260318T125420Z
LAST-MODIFIED:20260401T151226Z
UID:56402-1776643200-1776729599@copsmonitoring.com
SUMMARY:NCSLVA Annual Convention | Wrightsville Beach\, NC
DESCRIPTION:Join COPS Monitoring at the 2026 NCSLVA Annual Convention at Lumina on Wrightsville Beach for a premier gathering of North Carolina security and low voltage professionals. This high impact event provides a dedicated space for integration companies to explore the latest industry trends and technological breakthroughs in a stunning coastal setting. Attendees will engage with leading manufacturers and service providers while participating in essential training and legislative discussions. It is an exceptional opportunity to strengthen your business foundation and connect with the most influential voices in the regional security community. \n\nConnect with top tier security and low voltage integration companies across the region\nGain direct access to specialized manufacturers and service providers in the exhibit hall\nParticipate in professional training sessions designed to enhance technical and operational skills\nStay informed on critical legislative updates affecting the security industry in North Carolina\nNetwork with the COPS Monitoring team to discover new ways to optimize your services\n\nMon-Tue | April 20-21\, 2026\nLumina on Wrightsville Beach\nNorth Carolina\nREGISTER HERE\n 
URL:https://copsmonitoring.com/event/ncslva-042026/
LOCATION:Lumina on Wrightsville Beach\,\, 1706 N. Lumina Ave\, Wrightsville Beach\, 28480\, United States
CATEGORIES:Conference,Industry Event,Trade Show,Training
ATTACH;FMTTYPE=image/png:https://copsmonitoring.com/wp-content/uploads/2025/03/NCSLVA_event_hdr1.png
ORGANIZER;CN="Kevin Kremposky":MAILTO:kkremposky@copsmonitoring.com
END:VEVENT
BEGIN:VEVENT
DTSTART;VALUE=DATE:20251001
DTEND;VALUE=DATE:20251003
DTSTAMP:20260422T230124
CREATED:20250714T152156Z
LAST-MODIFIED:20250815T162146Z
UID:54920-1759276800-1759449599@copsmonitoring.com
SUMMARY:AZAA Annual Convention @ Embassy Suites | Phoenix\, AZ
DESCRIPTION:Join TJ Cornwall and Joe Goodman from COPS at the annual AZAA Convention and Golf Tournament\, hosted at the Embassy Suites in Phoenix! \nSHOW INFORMATION & REGISTRATION
URL:https://copsmonitoring.com/event/azaa-100125/
LOCATION:Embassy Suites Phoenix-Scottsdale\, 4415 E Paradise Vlg Pkwy S\, Phoenix\, 85032\, United States
CATEGORIES:Conference,Industry Event,Trade Show,Training
ATTACH;FMTTYPE=image/jpeg:https://copsmonitoring.com/wp-content/uploads/2019/07/azaa_event_hdr.jpg
ORGANIZER;CN="Joe Goodman":MAILTO:jgoodman@copsmonitoring.com
END:VEVENT
BEGIN:VEVENT
DTSTART;VALUE=DATE:20251002
DTEND;VALUE=DATE:20251003
DTSTAMP:20260422T230124
CREATED:20250714T151104Z
LAST-MODIFIED:20250815T162104Z
UID:54915-1759363200-1759449599@copsmonitoring.com
SUMMARY:OKBFAA Annual Golf Outing & Show | Guthrie\, OK
DESCRIPTION:COPS Monitoring is excited to be part of the OKBFAA Annual Golf Outing & Vendor Show\, combining top-tier networking with a fun golf experience. Our exhibit table will be set up during the vendor show and lunch stop by to meet our team\, explore our innovative monitoring solutions\, and enjoy great conversations. \nWhy You Should Attend:\nNetwork with industry professionals\, dealers\, and tech leaders in a single venue \nEnjoy lunch + vendor show access\, packed with demos and insights from key security providers \nPlay golf at Cimmaron National\, one of Oklahoma’s premier courses — followed by awards and door prizes \nMeet the COPS Monitoring team to learn how our cutting-edge monitoring services can enhance your business \nEnjoy a fun\, relaxed day that blends professional development with memorable experiences \nSHOW INFORMATION & REGISTRATION
URL:https://copsmonitoring.com/event/okbfaa-100225/
LOCATION:Cimmaron National Golf Club\, 500 Duffy's Way\, Guthrie\, 73044\, United States
CATEGORIES:Conference,Industry Event,Trade Show,Training
ATTACH;FMTTYPE=image/png:https://copsmonitoring.com/wp-content/uploads/2022/08/okbfaa_1227x248-Event-Page-Header.png
END:VEVENT
BEGIN:VEVENT
DTSTART;VALUE=DATE:20251021
DTEND;VALUE=DATE:20251023
DTSTAMP:20260422T230124
CREATED:20250724T153552Z
LAST-MODIFIED:20250815T162328Z
UID:54988-1761004800-1761177599@copsmonitoring.com
SUMMARY:AAA Fall Conference and Trade Show | Birmingham\, AL
DESCRIPTION:COPS Monitoring is proud to participate in the Alabama Alarm Association’s Fall Conference & Trade Show\, hosted at the Embassy Suites Hoover. \nThings will be kicking off on Tuesday evening with a Legislative Reception\, followed by a full day on Wednesday featuring CEU sessions and a trade show with lunch. Our Account Executive Kevin Kremposky will be on hand to meet with you and you can find out why COPS Monitoring leads in reliability and innovation. \nWhy You Should Attend:\n Earn CEUs across multiple sessions \nNetwork with Alabama dealers\, integrators\, vendors\, and decision‑makers \nExplore the trade show during lunch and engage with top providers in our space \nMeet COPS Monitoring at our exhibit table and speak with Kevin Kremposky about our award-winning monitoring services \nJoin the Tuesday reception to discuss industry trends\, lobby efforts\, and legislative updates over cocktails \nVIEW EVENT DETAILS
URL:https://copsmonitoring.com/event/aaa-102125/
LOCATION:Embassy Suites Hoover\, 2960 John Hawkins Pkwy\, Birmingham\, AL\, 35244\, United States
CATEGORIES:Conference,Industry Event,Trade Show,Training
ATTACH;FMTTYPE=image/jpeg:https://copsmonitoring.com/wp-content/uploads/2019/03/aaa_website_events_hdr.jpg
ORGANIZER;CN="Kevin Kremposky":MAILTO:kkremposky@copsmonitoring.com
END:VEVENT
BEGIN:VEVENT
DTSTART;VALUE=DATE:20251022
DTEND;VALUE=DATE:20251025
DTSTAMP:20260422T230124
CREATED:20250714T165943Z
LAST-MODIFIED:20250918T201311Z
UID:54933-1761091200-1761350399@copsmonitoring.com
SUMMARY:TBFAA 2025 Annual Convention | Rockwall\, TX
DESCRIPTION:Join TJ Cornwell with COPS at the TBFAA 2025 Convention – Where Texas Security Professionals Connect\, Learn & Lead! \nMark your calendars for October 22–24\, 2025\, as the Texas Burglar and Fire Alarm Association (TBFAA) brings the state’s premier security industry event to Rockwall\, TX! \nThis year’s TBFAA Convention is your opportunity to network with top industry leaders\, explore the latest in security technology\, and gain valuable insights from expert-led training sessions and panel discussions. Whether you’re a seasoned integrator\, a monitoring professional\, or new to the field\, this event is packed with opportunities to grow your knowledge\, make new connections\, and elevate your business. \nWhy Attend? \nIn-depth CEU-certified training sessions \nCutting-edge product showcases from leading vendors \nPowerful keynote speakers and industry updates \nReal-time access to legislative news affecting your business \nDon’t miss your chance to be part of the conversations shaping the future of security and fire alarm systems in Texas. \nEVENT INFORMATION & REGISTRATION!
URL:https://copsmonitoring.com/event/tbfaa-102225/
LOCATION:Hilton Dallas/Rockwall\, 2055 Summer Lee Dr\, Rockwall\, 75032\, United States
CATEGORIES:Conference,Industry Event,Trade Show,Training
ATTACH;FMTTYPE=image/jpeg:https://copsmonitoring.com/wp-content/uploads/2019/10/tbfaa_event_hdr.jpg
END:VEVENT
BEGIN:VEVENT
DTSTART;TZID=America/New_York:20251028T100000
DTEND;TZID=America/New_York:20251028T140000
DTSTAMP:20260422T230124
CREATED:20250923T181714Z
LAST-MODIFIED:20250923T182023Z
UID:55273-1761645600-1761660000@copsmonitoring.com
SUMMARY:SS&SI Dealer Roadshow | Cleveland\, OH
DESCRIPTION:COPS is excited to hit the road with SS&Si on their Dealer Roadshow coming to the Fairfield by Marriott Inn & Suites in Cleveland\, OH. Check out the latest product spotlights and experience top-tier training with SS&Si Dealer Network and their industry partners! \nBart Weiner\, Senior Account Executive with COPS Monitoring\, will be there to answer your questions. \nWe hope to see you at the show in Cleveland! \nREGISTER HERE!
URL:https://copsmonitoring.com/event/sssi-roadshow-102825/
LOCATION:Fairfield by Marriott Inn & Suites Cleveland\, 5110 Tiedeman Road Brooklyn\, Brooklyn\, OH\, 33309\, United States
CATEGORIES:Industry Event,Trade Show,Training
ATTACH;FMTTYPE=image/png:https://copsmonitoring.com/wp-content/uploads/2025/07/sssi_event_hdr.png
ORGANIZER;CN="Bart Weiner":MAILTO:bweiner@copsmonitoring.com
END:VEVENT
BEGIN:VEVENT
DTSTART;TZID=America/New_York:20251029T100000
DTEND;TZID=America/New_York:20251029T140000
DTSTAMP:20260422T230124
CREATED:20250923T182556Z
LAST-MODIFIED:20250923T182556Z
UID:55283-1761732000-1761746400@copsmonitoring.com
SUMMARY:SS&SI Dealer Roadshow | Pittsburgh\, PA
DESCRIPTION:COPS is excited to hit the road with SS&Si on their Dealer Roadshow coming to the Courtyard by Marriott Pittsburgh North. Check out the latest product spotlights and experience top-tier training with SS&Si Dealer Network and their industry partners! \nMichael Ritt\, Account Executive with COPS Monitoring\, will be there to answer your questions. \nWe hope to see you at the show in Pittsburgh! \nREGISTER HERE!
URL:https://copsmonitoring.com/event/sssi-dealer-roadshow-pittsburgh-pa/
LOCATION:Courtyard by Marriott Pittsburgh North\, 150 Cranberry Woods Drive Cranberry Township\, Pennsylvania\, PA\, 16066\, United States
CATEGORIES:Industry Event,Trade Show,Training
ATTACH;FMTTYPE=image/png:https://copsmonitoring.com/wp-content/uploads/2025/07/sssi_event_hdr.png
END:VEVENT
END:VCALENDAR