BEGIN:VCALENDAR
VERSION:2.0
PRODID:-//COPS Monitoring - ECPv6.15.20//NONSGML v1.0//EN
CALSCALE:GREGORIAN
METHOD:PUBLISH
X-ORIGINAL-URL:https://copsmonitoring.com
X-WR-CALDESC:Events for COPS Monitoring
REFRESH-INTERVAL;VALUE=DURATION:PT1H
X-Robots-Tag:noindex
X-PUBLISHED-TTL:PT1H
BEGIN:VTIMEZONE
TZID:America/New_York
BEGIN:DAYLIGHT
TZOFFSETFROM:-0500
TZOFFSETTO:-0400
TZNAME:EDT
DTSTART:20230312T070000
END:DAYLIGHT
BEGIN:STANDARD
TZOFFSETFROM:-0400
TZOFFSETTO:-0500
TZNAME:EST
DTSTART:20231105T060000
END:STANDARD
BEGIN:DAYLIGHT
TZOFFSETFROM:-0500
TZOFFSETTO:-0400
TZNAME:EDT
DTSTART:20240310T070000
END:DAYLIGHT
BEGIN:STANDARD
TZOFFSETFROM:-0400
TZOFFSETTO:-0500
TZNAME:EST
DTSTART:20241103T060000
END:STANDARD
BEGIN:DAYLIGHT
TZOFFSETFROM:-0500
TZOFFSETTO:-0400
TZNAME:EDT
DTSTART:20250309T070000
END:DAYLIGHT
BEGIN:STANDARD
TZOFFSETFROM:-0400
TZOFFSETTO:-0500
TZNAME:EST
DTSTART:20251102T060000
END:STANDARD
END:VTIMEZONE
BEGIN:VTIMEZONE
TZID:America/Chicago
BEGIN:DAYLIGHT
TZOFFSETFROM:-0600
TZOFFSETTO:-0500
TZNAME:CDT
DTSTART:20230312T080000
END:DAYLIGHT
BEGIN:STANDARD
TZOFFSETFROM:-0500
TZOFFSETTO:-0600
TZNAME:CST
DTSTART:20231105T070000
END:STANDARD
BEGIN:DAYLIGHT
TZOFFSETFROM:-0600
TZOFFSETTO:-0500
TZNAME:CDT
DTSTART:20240310T080000
END:DAYLIGHT
BEGIN:STANDARD
TZOFFSETFROM:-0500
TZOFFSETTO:-0600
TZNAME:CST
DTSTART:20241103T070000
END:STANDARD
BEGIN:DAYLIGHT
TZOFFSETFROM:-0600
TZOFFSETTO:-0500
TZNAME:CDT
DTSTART:20250309T080000
END:DAYLIGHT
BEGIN:STANDARD
TZOFFSETFROM:-0500
TZOFFSETTO:-0600
TZNAME:CST
DTSTART:20251102T070000
END:STANDARD
END:VTIMEZONE
BEGIN:VEVENT
DTSTART;VALUE=DATE:20241010
DTEND;VALUE=DATE:20241011
DTSTAMP:20260425T165153
CREATED:20240913T200915Z
LAST-MODIFIED:20240927T163600Z
UID:53791-1728518400-1728604799@copsmonitoring.com
SUMMARY:NJELSA Fall Clay Shoot @ NJ Clay Target Club
DESCRIPTION:On October 3rd\, join Michael Ritt with COPS at the NJELSA Fall Clay Shoot\, hosted at the NJ Clay Target Club in Fairfield! Join fellow industry professional for this beginner-friendly event. There will be plenty of network opportunities with industry professionals. \nEVENT INFORMATION\n 
URL:https://copsmonitoring.com/event/njelsa-100324/
LOCATION:NJ Clay Target Club\, 488 Horseneck Road\, Fairfield\, 07004\, United States
CATEGORIES:Industry Event,Trade Show,Training
ATTACH;FMTTYPE=image/jpeg:https://copsmonitoring.com/wp-content/uploads/2021/05/njelsa-1227x248-event-page-header.jpg
END:VEVENT
BEGIN:VEVENT
DTSTART;VALUE=DATE:20241015
DTEND;VALUE=DATE:20241016
DTSTAMP:20260425T165153
CREATED:20240913T201333Z
LAST-MODIFIED:20240913T204207Z
UID:53793-1728950400-1729036799@copsmonitoring.com
SUMMARY:NJELSA Annual Golf Outing | Galloping Hills
DESCRIPTION:Play a few rounds of golf and enjoy a great meal with colleagues at the New Jersey ELSA golf outing event at Galloping Hills Golf Course\, in Keniworth\, Oct 15! \nJoin Michael Ritt with COPS at this annual outdoor event with food\, golf\, and the opportunity to network with industry professionals. \nEVENT INFORMATION\n 
URL:https://copsmonitoring.com/event/njelsa-101524/
LOCATION:Galloping Hills Golf Course\, 3 Golf Dr\, Kenilworth\, 07033\, United States
CATEGORIES:Industry Event,Trade Show,Training
ATTACH;FMTTYPE=image/jpeg:https://copsmonitoring.com/wp-content/uploads/2021/05/njelsa-1227x248-event-page-header.jpg
END:VEVENT
BEGIN:VEVENT
DTSTART;VALUE=DATE:20241016
DTEND;VALUE=DATE:20241019
DTSTAMP:20260425T165153
CREATED:20240823T170201Z
LAST-MODIFIED:20240823T170800Z
UID:53728-1729036800-1729295999@copsmonitoring.com
SUMMARY:TBFAA Annual Convention | League City\, TX
DESCRIPTION:Join Bart Weiner from COPS at the Texas Burglar & Fire Alarm Association (TBFAA) Annual Convention & Trade Show hosted at South Shore Harbour Resort in League City! \nEVENT INFORMATION!
URL:https://copsmonitoring.com/event/tbfaa-101624/
LOCATION:South Shore Harbour Resort\, 2500 South Shore Blvd\, League City\, TX\, 77573\, United States
CATEGORIES:Conference,Industry Event,Trade Show,Training
ATTACH;FMTTYPE=image/jpeg:https://copsmonitoring.com/wp-content/uploads/2019/10/tbfaa_event_hdr.jpg
ORGANIZER;CN="Bart Weiner":MAILTO:bweiner@copsmonitoring.com
END:VEVENT
BEGIN:VEVENT
DTSTART;VALUE=DATE:20241024
DTEND;VALUE=DATE:20241025
DTSTAMP:20260425T165153
CREATED:20240913T203942Z
LAST-MODIFIED:20241008T203059Z
UID:53796-1729728000-1729814399@copsmonitoring.com
SUMMARY:NJELSA Northern Regional Meeting | Milford\, NJ
DESCRIPTION:Join Michael Ritt with COPS at the NJELSA Northern Regional Meeting @ Sanzari’s New Bridge Inn in Milford! Join fellow industry professional for training courses\, a mini tradeshow\, vendor tables\, and more! Plenty of networking opportunities will be available! \nEVENT INFORMATION
URL:https://copsmonitoring.com/event/njelsa-102424/
CATEGORIES:Industry Event,Trade Show,Training
ATTACH;FMTTYPE=image/jpeg:https://copsmonitoring.com/wp-content/uploads/2021/05/njelsa-1227x248-event-page-header.jpg
END:VEVENT
END:VCALENDAR