BEGIN:VCALENDAR
VERSION:2.0
PRODID:-//COPS Monitoring - ECPv6.15.20//NONSGML v1.0//EN
CALSCALE:GREGORIAN
METHOD:PUBLISH
X-ORIGINAL-URL:https://copsmonitoring.com
X-WR-CALDESC:Events for COPS Monitoring
REFRESH-INTERVAL;VALUE=DURATION:PT1H
X-Robots-Tag:noindex
X-PUBLISHED-TTL:PT1H
BEGIN:VTIMEZONE
TZID:America/Los_Angeles
BEGIN:DAYLIGHT
TZOFFSETFROM:-0800
TZOFFSETTO:-0700
TZNAME:PDT
DTSTART:20220313T100000
END:DAYLIGHT
BEGIN:STANDARD
TZOFFSETFROM:-0700
TZOFFSETTO:-0800
TZNAME:PST
DTSTART:20221106T090000
END:STANDARD
BEGIN:DAYLIGHT
TZOFFSETFROM:-0800
TZOFFSETTO:-0700
TZNAME:PDT
DTSTART:20230312T100000
END:DAYLIGHT
BEGIN:STANDARD
TZOFFSETFROM:-0700
TZOFFSETTO:-0800
TZNAME:PST
DTSTART:20231105T090000
END:STANDARD
BEGIN:DAYLIGHT
TZOFFSETFROM:-0800
TZOFFSETTO:-0700
TZNAME:PDT
DTSTART:20240310T100000
END:DAYLIGHT
BEGIN:STANDARD
TZOFFSETFROM:-0700
TZOFFSETTO:-0800
TZNAME:PST
DTSTART:20241103T090000
END:STANDARD
END:VTIMEZONE
BEGIN:VTIMEZONE
TZID:America/New_York
BEGIN:DAYLIGHT
TZOFFSETFROM:-0500
TZOFFSETTO:-0400
TZNAME:EDT
DTSTART:20220313T070000
END:DAYLIGHT
BEGIN:STANDARD
TZOFFSETFROM:-0400
TZOFFSETTO:-0500
TZNAME:EST
DTSTART:20221106T060000
END:STANDARD
BEGIN:DAYLIGHT
TZOFFSETFROM:-0500
TZOFFSETTO:-0400
TZNAME:EDT
DTSTART:20230312T070000
END:DAYLIGHT
BEGIN:STANDARD
TZOFFSETFROM:-0400
TZOFFSETTO:-0500
TZNAME:EST
DTSTART:20231105T060000
END:STANDARD
BEGIN:DAYLIGHT
TZOFFSETFROM:-0500
TZOFFSETTO:-0400
TZNAME:EDT
DTSTART:20240310T070000
END:DAYLIGHT
BEGIN:STANDARD
TZOFFSETFROM:-0400
TZOFFSETTO:-0500
TZNAME:EST
DTSTART:20241103T060000
END:STANDARD
END:VTIMEZONE
BEGIN:VEVENT
DTSTART;VALUE=DATE:20230523
DTEND;VALUE=DATE:20230526
DTSTAMP:20260425T101750
CREATED:20230508T204624Z
LAST-MODIFIED:20230508T204714Z
UID:50625-1684800000-1685059199@copsmonitoring.com
SUMMARY:Parks Connections Conference @ the Omni Hotel | Frisco\, TX
DESCRIPTION:Join the COPS team at this year’s “CONNECTIONS” conference being held at the Omni Hotel in Frisco! \nRecognized as the premier event for consumer technology products and services and bringing thousands of industry leaders together to talk about the new technologies\, innovation and business models for smart home\, security\, connected health\, controls\, and entertainment services. \nFor more information on the event\, visit: http://www.parksassociates.com/events/connections-us
URL:https://copsmonitoring.com/event/parks-connections-052323/
LOCATION:Omni Hotel\, 11 Cowboys Way\, Frisco\, TX\, 75034\, United States
CATEGORIES:Conference,Dealer Appreciation,Training
ATTACH;FMTTYPE=image/jpeg:https://copsmonitoring.com/wp-content/uploads/2019/05/connections_event_hdr.jpg
END:VEVENT
BEGIN:VEVENT
DTSTART;VALUE=DATE:20230524
DTEND;VALUE=DATE:20230525
DTSTAMP:20260425T101750
CREATED:20230412T152331Z
LAST-MODIFIED:20230412T152331Z
UID:50482-1684886400-1684972799@copsmonitoring.com
SUMMARY:NJELSA Central Regional Meeting | May 24
DESCRIPTION:Join Michael Ritt with COPS at the NJELSA Central Regional Meeting\, hosted at Gargiulo’s Restaurant in Tinton Falls! Join fellow industry professional for training courses\, a mini tradeshow\, vendor tables\, and more! Plenty of networking opportunities will be available! \nFor more information\, please visit: https://njelsa.org
URL:https://copsmonitoring.com/event/njelsa-central-meeting-052423/
LOCATION:Gargiulo’s Restaurant\, 720 Tinton Ave\, Tinton Falls\, NJ\, 07724\, United States
CATEGORIES:Industry Event,Trade Show,Training
ATTACH;FMTTYPE=image/jpeg:https://copsmonitoring.com/wp-content/uploads/2021/05/njelsa-1227x248-event-page-header.jpg
END:VEVENT
END:VCALENDAR