BEGIN:VCALENDAR
VERSION:2.0
PRODID:-//COPS Monitoring - ECPv6.15.20//NONSGML v1.0//EN
CALSCALE:GREGORIAN
METHOD:PUBLISH
X-WR-CALNAME:COPS Monitoring
X-ORIGINAL-URL:https://copsmonitoring.com
X-WR-CALDESC:Events for COPS Monitoring
REFRESH-INTERVAL;VALUE=DURATION:PT1H
X-Robots-Tag:noindex
X-PUBLISHED-TTL:PT1H
BEGIN:VTIMEZONE
TZID:America/New_York
BEGIN:DAYLIGHT
TZOFFSETFROM:-0500
TZOFFSETTO:-0400
TZNAME:EDT
DTSTART:20210314T070000
END:DAYLIGHT
BEGIN:STANDARD
TZOFFSETFROM:-0400
TZOFFSETTO:-0500
TZNAME:EST
DTSTART:20211107T060000
END:STANDARD
BEGIN:DAYLIGHT
TZOFFSETFROM:-0500
TZOFFSETTO:-0400
TZNAME:EDT
DTSTART:20220313T070000
END:DAYLIGHT
BEGIN:STANDARD
TZOFFSETFROM:-0400
TZOFFSETTO:-0500
TZNAME:EST
DTSTART:20221106T060000
END:STANDARD
BEGIN:DAYLIGHT
TZOFFSETFROM:-0500
TZOFFSETTO:-0400
TZNAME:EDT
DTSTART:20230312T070000
END:DAYLIGHT
BEGIN:STANDARD
TZOFFSETFROM:-0400
TZOFFSETTO:-0500
TZNAME:EST
DTSTART:20231105T060000
END:STANDARD
END:VTIMEZONE
BEGIN:VEVENT
DTSTART;VALUE=DATE:20221214
DTEND;VALUE=DATE:20221215
DTSTAMP:20260425T190825
CREATED:20221108T183411Z
LAST-MODIFIED:20221108T183411Z
UID:49566-1670976000-1671062399@copsmonitoring.com
SUMMARY:PBFAA 40th Anniversary Celebration | Dec 14
DESCRIPTION:Check out the PBFAA 40th Anniversary Celebration @ Wind Creek Casino | Bethlehem\, PA\, and meet Michael Ritt from COPS Monitoring during the show to find out about our world class alarm monitoring solutions! \nFor more information\, visit the official PBFAA website.
URL:https://copsmonitoring.com/event/pbfaa-40celebraton-121422/
LOCATION:Braveheart Highland Pub\, 430 Main St\, Hellertown\, PA\, 18055\, United States
CATEGORIES:Conference,Training
ATTACH;FMTTYPE=image/jpeg:https://copsmonitoring.com/wp-content/uploads/2019/04/pbfaa_event_hdr.jpg
END:VEVENT
END:VCALENDAR