BEGIN:VCALENDAR
VERSION:2.0
PRODID:-//COPS Monitoring - ECPv6.15.20//NONSGML v1.0//EN
CALSCALE:GREGORIAN
METHOD:PUBLISH
X-WR-CALNAME:COPS Monitoring
X-ORIGINAL-URL:https://copsmonitoring.com
X-WR-CALDESC:Events for COPS Monitoring
REFRESH-INTERVAL;VALUE=DURATION:PT1H
X-Robots-Tag:noindex
X-PUBLISHED-TTL:PT1H
BEGIN:VTIMEZONE
TZID:America/New_York
BEGIN:DAYLIGHT
TZOFFSETFROM:-0500
TZOFFSETTO:-0400
TZNAME:EDT
DTSTART:20210314T070000
END:DAYLIGHT
BEGIN:STANDARD
TZOFFSETFROM:-0400
TZOFFSETTO:-0500
TZNAME:EST
DTSTART:20211107T060000
END:STANDARD
BEGIN:DAYLIGHT
TZOFFSETFROM:-0500
TZOFFSETTO:-0400
TZNAME:EDT
DTSTART:20220313T070000
END:DAYLIGHT
BEGIN:STANDARD
TZOFFSETFROM:-0400
TZOFFSETTO:-0500
TZNAME:EST
DTSTART:20221106T060000
END:STANDARD
BEGIN:DAYLIGHT
TZOFFSETFROM:-0500
TZOFFSETTO:-0400
TZNAME:EDT
DTSTART:20230312T070000
END:DAYLIGHT
BEGIN:STANDARD
TZOFFSETFROM:-0400
TZOFFSETTO:-0500
TZNAME:EST
DTSTART:20231105T060000
END:STANDARD
END:VTIMEZONE
BEGIN:VEVENT
DTSTART;TZID=America/New_York:20221206T120000
DTEND;TZID=America/New_York:20221206T130000
DTSTAMP:20260425T190758
CREATED:20221129T152908Z
LAST-MODIFIED:20221206T150236Z
UID:49561-1670328000-1670331600@copsmonitoring.com
SUMMARY:WEBINAR: Boost Your RMR with HandsFree Health MPERS | Dec 6
DESCRIPTION:HandsFree Health’s medical alert pendant and watch are state-of-the-art devices\, and supported with a fully integrated dealer portal.\nJoin COPS Monitoring & HandsFree Health for a 1-hour webinar to learn how you can offer leading MPERS and Health Services.\nTuesday | Dec 6 | 12:00PM EST\n  \nVIEW EVENT DETAILS / REGISTER NOW!
URL:https://copsmonitoring.com/event/webinar-handsfreehealth-120622/
LOCATION:Webinar\, United States
CATEGORIES:Training,Webinar
ATTACH;FMTTYPE=image/jpeg:https://copsmonitoring.com/wp-content/uploads/2022/11/handsfreehealth_1227x248-Event-Page-Header.jpg
ORGANIZER;CN="Bart Weiner":MAILTO:bweiner@copsmonitoring.com
END:VEVENT
END:VCALENDAR