BEGIN:VCALENDAR
VERSION:2.0
PRODID:-//COPS Monitoring - ECPv6.15.20//NONSGML v1.0//EN
CALSCALE:GREGORIAN
METHOD:PUBLISH
X-ORIGINAL-URL:https://copsmonitoring.com
X-WR-CALDESC:Events for COPS Monitoring
REFRESH-INTERVAL;VALUE=DURATION:PT1H
X-Robots-Tag:noindex
X-PUBLISHED-TTL:PT1H
BEGIN:VTIMEZONE
TZID:America/New_York
BEGIN:DAYLIGHT
TZOFFSETFROM:-0500
TZOFFSETTO:-0400
TZNAME:EDT
DTSTART:20210314T070000
END:DAYLIGHT
BEGIN:STANDARD
TZOFFSETFROM:-0400
TZOFFSETTO:-0500
TZNAME:EST
DTSTART:20211107T060000
END:STANDARD
BEGIN:DAYLIGHT
TZOFFSETFROM:-0500
TZOFFSETTO:-0400
TZNAME:EDT
DTSTART:20220313T070000
END:DAYLIGHT
BEGIN:STANDARD
TZOFFSETFROM:-0400
TZOFFSETTO:-0500
TZNAME:EST
DTSTART:20221106T060000
END:STANDARD
BEGIN:DAYLIGHT
TZOFFSETFROM:-0500
TZOFFSETTO:-0400
TZNAME:EDT
DTSTART:20230312T070000
END:DAYLIGHT
BEGIN:STANDARD
TZOFFSETFROM:-0400
TZOFFSETTO:-0500
TZNAME:EST
DTSTART:20231105T060000
END:STANDARD
END:VTIMEZONE
BEGIN:VTIMEZONE
TZID:America/Chicago
BEGIN:DAYLIGHT
TZOFFSETFROM:-0600
TZOFFSETTO:-0500
TZNAME:CDT
DTSTART:20210314T080000
END:DAYLIGHT
BEGIN:STANDARD
TZOFFSETFROM:-0500
TZOFFSETTO:-0600
TZNAME:CST
DTSTART:20211107T070000
END:STANDARD
BEGIN:DAYLIGHT
TZOFFSETFROM:-0600
TZOFFSETTO:-0500
TZNAME:CDT
DTSTART:20220313T080000
END:DAYLIGHT
BEGIN:STANDARD
TZOFFSETFROM:-0500
TZOFFSETTO:-0600
TZNAME:CST
DTSTART:20221106T070000
END:STANDARD
BEGIN:DAYLIGHT
TZOFFSETFROM:-0600
TZOFFSETTO:-0500
TZNAME:CDT
DTSTART:20230312T080000
END:DAYLIGHT
BEGIN:STANDARD
TZOFFSETFROM:-0500
TZOFFSETTO:-0600
TZNAME:CST
DTSTART:20231105T070000
END:STANDARD
END:VTIMEZONE
BEGIN:VEVENT
DTSTART;VALUE=DATE:20221115
DTEND;VALUE=DATE:20221118
DTSTAMP:20260425T210200
CREATED:20221108T182055Z
LAST-MODIFIED:20221108T182055Z
UID:49409-1668470400-1668729599@copsmonitoring.com
SUMMARY:ISC East @ Javits Center | Nov 17-18
DESCRIPTION:Check out the latest services that the security industry has to offer!\nNetwork\, learn and evaluate the latest technologies and solutions from premier exhibiting brands. The combination of one-on-one conversations with top innovators\, high-quality special events\, and cutting-edge education and training\, make ISC East the most comprehensive East Coast event to guide the industry in getting back to business. \nFor more information and to register\, visit: www.isceast.com/
URL:https://copsmonitoring.com/event/isce-111522/
LOCATION:Javits Center\, 429 11th Ave\, New York\, NY\, 10001\, United States
CATEGORIES:Industry Event,Trade Show,Training
ATTACH;FMTTYPE=image/jpeg:https://copsmonitoring.com/wp-content/uploads/2021/10/isce_1227x248-Event-Page-Header.jpg
END:VEVENT
BEGIN:VEVENT
DTSTART;VALUE=DATE:20221116
DTEND;VALUE=DATE:20221118
DTSTAMP:20260425T210200
CREATED:20221024T205344Z
LAST-MODIFIED:20221024T205454Z
UID:49411-1668556800-1668729599@copsmonitoring.com
SUMMARY:LLSSA Annual Convention & Trade Show in Kenner | Nov 16-17
DESCRIPTION:Join Richard Nutting from COPS at the LLSSA Annual Convention hosted at the Pontchartrain Convention Center in Kenner\, LA. \nFor more information\, visit: https://llssa.org
URL:https://copsmonitoring.com/event/llssa-annual-convention-trade-show-in-kenner-nov-16-17/
ATTACH;FMTTYPE=image/jpeg:https://copsmonitoring.com/wp-content/uploads/2019/11/llssa_event_hdr.jpg
END:VEVENT
END:VCALENDAR