BEGIN:VCALENDAR
VERSION:2.0
PRODID:-//COPS Monitoring - ECPv6.15.20//NONSGML v1.0//EN
CALSCALE:GREGORIAN
METHOD:PUBLISH
X-ORIGINAL-URL:https://copsmonitoring.com
X-WR-CALDESC:Events for COPS Monitoring
REFRESH-INTERVAL;VALUE=DURATION:PT1H
X-Robots-Tag:noindex
X-PUBLISHED-TTL:PT1H
BEGIN:VTIMEZONE
TZID:America/New_York
BEGIN:DAYLIGHT
TZOFFSETFROM:-0500
TZOFFSETTO:-0400
TZNAME:EDT
DTSTART:20210314T070000
END:DAYLIGHT
BEGIN:STANDARD
TZOFFSETFROM:-0400
TZOFFSETTO:-0500
TZNAME:EST
DTSTART:20211107T060000
END:STANDARD
BEGIN:DAYLIGHT
TZOFFSETFROM:-0500
TZOFFSETTO:-0400
TZNAME:EDT
DTSTART:20220313T070000
END:DAYLIGHT
BEGIN:STANDARD
TZOFFSETFROM:-0400
TZOFFSETTO:-0500
TZNAME:EST
DTSTART:20221106T060000
END:STANDARD
BEGIN:DAYLIGHT
TZOFFSETFROM:-0500
TZOFFSETTO:-0400
TZNAME:EDT
DTSTART:20230312T070000
END:DAYLIGHT
BEGIN:STANDARD
TZOFFSETFROM:-0400
TZOFFSETTO:-0500
TZNAME:EST
DTSTART:20231105T060000
END:STANDARD
END:VTIMEZONE
BEGIN:VEVENT
DTSTART;VALUE=DATE:20221110
DTEND;VALUE=DATE:20221114
DTSTAMP:20260425T211223
CREATED:20221024T202154Z
LAST-MODIFIED:20221024T202932Z
UID:49407-1668038400-1668383999@copsmonitoring.com
SUMMARY:Resideo Connect 2022 @ JW Marriott Marco Island | Nov 10-13
DESCRIPTION:Join Bart Weiner from COPS at the Resideo Connect 2022 @ JW Marriott in Marco Island! \nFor more information\, visit: https://www.resideo.com/us/en/pro/connect-2022/
URL:https://copsmonitoring.com/event/resideo-connect-111022/
LOCATION:JW Marriott Marco Island Beach Resort\, 400 Collier Blvd\, Marco Island\, FL\, 34145\, United States
ATTACH;FMTTYPE=image/jpeg:https://copsmonitoring.com/wp-content/uploads/2019/10/resideo_event_hdr.jpg
ORGANIZER;CN="Bart Weiner":MAILTO:bweiner@copsmonitoring.com
END:VEVENT
END:VCALENDAR