BEGIN:VCALENDAR
VERSION:2.0
PRODID:-//COPS Monitoring - ECPv6.15.20//NONSGML v1.0//EN
CALSCALE:GREGORIAN
METHOD:PUBLISH
X-WR-CALNAME:COPS Monitoring
X-ORIGINAL-URL:https://copsmonitoring.com
X-WR-CALDESC:Events for COPS Monitoring
REFRESH-INTERVAL;VALUE=DURATION:PT1H
X-Robots-Tag:noindex
X-PUBLISHED-TTL:PT1H
BEGIN:VTIMEZONE
TZID:America/New_York
BEGIN:DAYLIGHT
TZOFFSETFROM:-0500
TZOFFSETTO:-0400
TZNAME:EDT
DTSTART:20170312T070000
END:DAYLIGHT
BEGIN:STANDARD
TZOFFSETFROM:-0400
TZOFFSETTO:-0500
TZNAME:EST
DTSTART:20171105T060000
END:STANDARD
BEGIN:DAYLIGHT
TZOFFSETFROM:-0500
TZOFFSETTO:-0400
TZNAME:EDT
DTSTART:20180311T070000
END:DAYLIGHT
BEGIN:STANDARD
TZOFFSETFROM:-0400
TZOFFSETTO:-0500
TZNAME:EST
DTSTART:20181104T060000
END:STANDARD
BEGIN:DAYLIGHT
TZOFFSETFROM:-0500
TZOFFSETTO:-0400
TZNAME:EDT
DTSTART:20190310T070000
END:DAYLIGHT
BEGIN:STANDARD
TZOFFSETFROM:-0400
TZOFFSETTO:-0500
TZNAME:EST
DTSTART:20191103T060000
END:STANDARD
END:VTIMEZONE
BEGIN:VEVENT
DTSTART;TZID=America/New_York:20180719T080000
DTEND;TZID=America/New_York:20180719T170000
DTSTAMP:20260421T050029
CREATED:20180620T195902Z
LAST-MODIFIED:20230720T124616Z
UID:4742-1531987200-1532019600@copsmonitoring.com
SUMMARY:"Grow Your Business" Seminar @ Anixter/Tri-ed | Raleigh\, NC
DESCRIPTION:Join Ron Bowden and the COPS team for the Grow Your Business (GYB) seminar\, where Ron will share his secrets and expertise on all the key areas you need to support the management and growth of your company. His lively in-person workshops will shine a new light on your business. \n\nLearn the secrets that created 300\,000 accounts in 10 years\nDSC – Spotlight on Neo & Iotega\nSecureNet Interactive Services\nLearn how to increase your RMR via Smart Home services.\nMeet leading manufacturers in an informal setting\n\n**Lunch will be included**
URL:https://copsmonitoring.com/event/grow-your-business-seminar-anixter-tri-ed-raleigh-nc/
LOCATION:Tri-ed Distribution – Raleigh\, 2201 Brentwood Rd #113\, Raleigh\, NC\, 27604\, United States
ATTACH;FMTTYPE=image/jpeg:https://copsmonitoring.com/wp-content/uploads/2018/06/gyb_littlerock_hdr.jpg
ORGANIZER;CN="Kevin Kremposky":MAILTO:kkremposky@copsmonitoring.com
END:VEVENT
END:VCALENDAR